BEGIN:VCALENDAR
VERSION:2.0
PRODID:gruene-donnersberg.de
METHOD:PUBLISH
BEGIN:VTIMEZONE
TZID:Europe/Berlin
X-LIC-LOCATION:Europe/Berlin
BEGIN:DAYLIGHT
TZOFFSETFROM:+0100
TZOFFSETTO:+0200
TZNAME:CEST
DTSTART:19700329T020000
RRULE:FREQ=YEARLY;INTERVAL=1;BYDAY=-1SU;BYMONTH=3
END:DAYLIGHT
BEGIN:STANDARD
TZOFFSETFROM:+0200
TZOFFSETTO:+0100
TZNAME:CET
DTSTART:19701025T030000
RRULE:FREQ=YEARLY;INTERVAL=1;BYDAY=-1SU;BYMONTH=10
END:STANDARD
END:VTIMEZONE
BEGIN:VEVENT
UID:bddb69b8c58c315095c4964008f8a46d@gruene-donnersberg.de
URL;VALUE=URI:https://gruene-donnersberg.de/termine/offener-austausch-mit
 -felix-banaszak-kirchheimbolanden/
LOCATION:Wahlkreisbüro, Schlossstraße 15, Kirchheimbolanden
SUMMARY:Offener Austausch mit Felix Banaszak, Kirchheimbolanden
DESCRIPTION;ALTREP="data:text/html,":
CLASS:PUBLIC
DTSTART;TZID=Europe/Berlin:20260312T131500
DTEND;TZID=Europe/Berlin:20260312T141500
DTSTAMP:20260425T111615
END:VEVENT
END:VCALENDAR