BEGIN:VCALENDAR
VERSION:2.0
PRODID:gruene-donnersberg.de
METHOD:PUBLISH
BEGIN:VTIMEZONE
TZID:Europe/Berlin
X-LIC-LOCATION:Europe/Berlin
BEGIN:DAYLIGHT
TZOFFSETFROM:+0100
TZOFFSETTO:+0200
TZNAME:CEST
DTSTART:19700329T020000
RRULE:FREQ=YEARLY;INTERVAL=1;BYDAY=-1SU;BYMONTH=3
END:DAYLIGHT
BEGIN:STANDARD
TZOFFSETFROM:+0200
TZOFFSETTO:+0100
TZNAME:CET
DTSTART:19701025T030000
RRULE:FREQ=YEARLY;INTERVAL=1;BYDAY=-1SU;BYMONTH=10
END:STANDARD
END:VTIMEZONE
BEGIN:VEVENT
UID:4d29bd6745bf85db66e50085e89922e8@gruene-donnersberg.de
URL;VALUE=URI:https://gruene-donnersberg.de/termine/stammtisch-in-rockenh
 ausen/
LOCATION:Pfälzer Hof, Kreuznacher Str. 30, Rockenhausen
SUMMARY:Stammtisch in Rockenhausen
DESCRIPTION;ALTREP="data:text/html,":
CLASS:PUBLIC
DTSTART;TZID=Europe/Berlin:20260311T190000
DTEND;TZID=Europe/Berlin:20260311T200000
DTSTAMP:20260425T113655
END:VEVENT
END:VCALENDAR