BEGIN:VCALENDAR
VERSION:2.0
PRODID:gruene-donnersberg.de
METHOD:PUBLISH
BEGIN:VTIMEZONE
TZID:Europe/Berlin
X-LIC-LOCATION:Europe/Berlin
BEGIN:DAYLIGHT
TZOFFSETFROM:+0100
TZOFFSETTO:+0200
TZNAME:CEST
DTSTART:19700329T020000
RRULE:FREQ=YEARLY;INTERVAL=1;BYDAY=-1SU;BYMONTH=3
END:DAYLIGHT
BEGIN:STANDARD
TZOFFSETFROM:+0200
TZOFFSETTO:+0100
TZNAME:CET
DTSTART:19701025T030000
RRULE:FREQ=YEARLY;INTERVAL=1;BYDAY=-1SU;BYMONTH=10
END:STANDARD
END:VTIMEZONE
BEGIN:VEVENT
UID:94e079ad47e218cab935641721fa8505@gruene-donnersberg.de
URL;VALUE=URI:https://gruene-donnersberg.de/termine/wahlkampfstand-2/
LOCATION:Mozartbrunnen, Kirchheimbolanden
SUMMARY:Wahlkampfstand Kirchheimbolanden
DESCRIPTION;ALTREP="data:text/html,%0A%3Cp%3EKommt%20vorbei%21%3C%2Fp%3E%
 0A":Kommt vorbei!
CLASS:PUBLIC
DTSTART;TZID=Europe/Berlin:20260313T093000
DTEND;TZID=Europe/Berlin:20260313T113000
DTSTAMP:20260425T114000
END:VEVENT
END:VCALENDAR